BEGIN:VCALENDAR
VERSION:2.0
PRODID:-//ChamberMaster//Event Calendar 2.0//EN
METHOD:PUBLISH
X-PUBLISHED-TTL:P1H
REFRESH-INTERVAL:P1H
CALSCALE:GREGORIAN
BEGIN:VTIMEZONE
TZID:America/Chicago
BEGIN:DAYLIGHT
RRULE:FREQ=YEARLY;BYMONTH=3;BYDAY=2SU
DTSTART:20070101T000000
TZOFFSETFROM:-0600
TZOFFSETTO:-0500
TZNAME:Central Daylight Time
END:DAYLIGHT
BEGIN:STANDARD
RRULE:FREQ=YEARLY;BYMONTH=11;BYDAY=1SU
DTSTART:20070101T000000
TZOFFSETFROM:-0500
TZOFFSETTO:-0600
TZNAME:Central Standard Time
END:STANDARD
END:VTIMEZONE
BEGIN:VEVENT
DTSTART;VALUE=DATE:20260806
DTEND;VALUE=DATE:20260807
TRANSP:TRANSPARENT
X-MICROSOFT-CDO-ALLDAYEVENT:TRUE
SUMMARY:23rd Annual Scholarship Golf Outing
DESCRIPTION:Scholarships totaling up to $25\,000 will be given away thanks to our generous sponsors and golfers.
X-ALT-DESC;FMTTYPE=text/html:<!DOCTYPE html><html><head><title></title></head><body aria-disabled="false"><p>Scholarships totaling up to $25\,000 will be given away thanks to our generous sponsors and golfers.</p></body></html>
LOCATION:2955 Wisconsin Dells Parkway Wisconsin Dells WI 53965
UID:e.3267.1447009
SEQUENCE:3
DTSTAMP:20260421T122507Z
URL:https://members.piaw.org/eventcalendar/Details/23rd-annual-scholarship-golf-outing-1713816?sourceTypeId=Hub
END:VEVENT
END:VCALENDAR
