BEGIN:VCALENDAR
VERSION:2.0
PRODID:-//ChamberMaster//Event Calendar 2.0//EN
METHOD:PUBLISH
X-PUBLISHED-TTL:P1H
REFRESH-INTERVAL:P1H
CALSCALE:GREGORIAN
BEGIN:VTIMEZONE
TZID:America/Chicago
BEGIN:DAYLIGHT
RRULE:FREQ=YEARLY;BYMONTH=3;BYDAY=2SU
DTSTART:20070101T000000
TZOFFSETFROM:-0600
TZOFFSETTO:-0500
TZNAME:Central Daylight Time
END:DAYLIGHT
BEGIN:STANDARD
RRULE:FREQ=YEARLY;BYMONTH=11;BYDAY=1SU
DTSTART:20070101T000000
TZOFFSETFROM:-0500
TZOFFSETTO:-0600
TZNAME:Central Standard Time
END:STANDARD
END:VTIMEZONE
BEGIN:VEVENT
DTSTART;TZID=America/Chicago:20250911T130000
DTEND;TZID=America/Chicago:20250911T140000
X-MICROSOFT-CDO-ALLDAYEVENT:FALSE
SUMMARY:An Hour with Cathy: Understanding (Finally!) How Claims Made Policies Work - Sept 11 - Live Webinar (1 WI CE)
DESCRIPTION:1 WI CE\nCourse # 6000182075Course SummaryThis course covers the most important concepts to understand when writing claims-made coverage. We will discuss the coverage trigger\, retroactive date\, extended reporting period\,  prior  and pending litigation and continuity dates. We will review some common coverage features of policies written on a claims-made basis including defense provisions and consent to settle clauses. Lastly\, we will discuss the importance of the policy application. InstructorCatherine Trischan\, CPCU\, CRM\, CIC\, ARM\, AU\, AAI\, CRIS\, MLISWebinar System Requirements: Reliable internet connection and working speakers. No microphone or webcam is needed.
X-ALT-DESC;FMTTYPE=text/html:<!DOCTYPE html><html><head><title></title></head><body aria-disabled="false"><p><span style="font-size: 16px\; color: rgb(84\, 84\, 84)\;"><strong fr-original-style="" style="font-weight: 700\;">1 WI CE<br>Course # 6000182075</strong></span></p><h3><span style="font-size: 22px\;">Course Summary</span></h3><p style="text-align:justify\;"><a fr-original-style="" name="_Hlk161989020" style="user-select: auto\;">This course covers the most important concepts to understand when writing claims-made coverage. We will discuss the coverage trigger\, retroactive date\, extended reporting period\, &nbsp\;prior &nbsp\;and pending litigation and continuity dates. We will review some common coverage features of policies written on a claims-made basis including defense provisions and consent to settle clauses. Lastly\, we will discuss the importance of the policy application.&nbsp\;</a></p><h3><span style="font-size: 22px\;">Instructor</span></h3><p style="margin-bottom: 0in\; text-align: left\;">Catherine Trischan\, CPCU\, CRM\, CIC\, ARM\, AU\, AAI\, CRIS\, MLIS</p><hr fr-original-style="" style="clear: both\; user-select: none\; break-after: page\;"><p><strong fr-original-style="" style="font-weight: 700\;">Webinar System Requirements:</strong> Reliable internet connection and working speakers. No microphone or webcam is needed.</p></body></html>
LOCATION:
UID:e.3267.1176861
SEQUENCE:3
DTSTAMP:20260421T093339Z
URL:https://members.piaw.org/eventcalendar/Details/an-hour-with-cathy-understanding-finally-how-claims-made-policies-work-sept-11-live-webinar-1-wi-ce-1371284?sourceTypeId=Hub
END:VEVENT
END:VCALENDAR
