BEGIN:VCALENDAR
VERSION:2.0
PRODID:-//ChamberMaster//Event Calendar 2.0//EN
METHOD:PUBLISH
X-PUBLISHED-TTL:P1H
REFRESH-INTERVAL:P1H
CALSCALE:GREGORIAN
BEGIN:VTIMEZONE
TZID:America/Chicago
BEGIN:DAYLIGHT
RRULE:FREQ=YEARLY;BYMONTH=3;BYDAY=2SU
DTSTART:20070101T000000
TZOFFSETFROM:-0600
TZOFFSETTO:-0500
TZNAME:Central Daylight Time
END:DAYLIGHT
BEGIN:STANDARD
RRULE:FREQ=YEARLY;BYMONTH=11;BYDAY=1SU
DTSTART:20070101T000000
TZOFFSETFROM:-0500
TZOFFSETTO:-0600
TZNAME:Central Standard Time
END:STANDARD
END:VTIMEZONE
BEGIN:VEVENT
DTSTART;TZID=America/Chicago:20260915T090000
DTEND;TZID=America/Chicago:20260915T120000
X-MICROSOFT-CDO-ALLDAYEVENT:FALSE
SUMMARY:Professional Ethics & Errors and E&O Loss Control - Sept 15 - Webinar (3 WI CE)
DESCRIPTION:This is a 3-hour webinar9:00a.m. - noonInstructed by: Bettye Hutchison\, CIC\, CRM\, CPCU\, ARM\, CPIA\, AAI\, TRIP3 WI CE Ethics Credits\, UTICA ApprovedCourse # 6000212650WI residents: You cannot take the same course # more than once in your two-year reporting period.***For registrations after 12:00pm on 9/14\, contact Becca at 608-274-8188 or bbredeson@piaw.org***
X-ALT-DESC;FMTTYPE=text/html:<!DOCTYPE html><html><head><title></title></head><body aria-disabled="false"><p><strong fr-original-style="" style="font-weight: 700\;">This is a 3-hour webinar</strong></p><p>9:00a.m. - noon</p><p>Instructed by: Bettye Hutchison\, CIC\, CRM\, CPCU\, ARM\, CPIA\, AAI\, TRIP</p><p>3 WI CE Ethics Credits\, UTICA Approved</p><p>Course # 6000212650</p><hr fr-original-style="" style="clear: both\; user-select: none\; break-after: page\;"><p style="text-align: left\;"><strong fr-original-style="" style="font-weight: 700\;">WI residents: You cannot take the same course # more than once in your two-year reporting period.</strong></p><p style="text-align: center\;"><em><strong fr-original-style="" style="font-weight: 700\;"><span style="color: rgb(184\, 49\, 47)\;">***For registrations after 12:00pm on 9/14\, contact Becca at 608-274-8188 or bbredeson@piaw.org***</span></strong></em></p></body></html>
LOCATION:
UID:e.3267.1422961
SEQUENCE:3
DTSTAMP:20260420T084126Z
URL:https://members.piaw.org/eventcalendar/Details/professional-ethics-errors-and-e-o-loss-control-sept-15-webinar-3-wi-ce-1682504?sourceTypeId=Hub
END:VEVENT
END:VCALENDAR
